BEGIN:VCALENDAR
VERSION:2.0
PRODID:-//Intimity Festival - ECPv6.15.20//NONSGML v1.0//EN
CALSCALE:GREGORIAN
METHOD:PUBLISH
X-WR-CALNAME:Intimity Festival
X-ORIGINAL-URL:https://intimityfestival.cz
X-WR-CALDESC:Akce na Intimity Festival
REFRESH-INTERVAL;VALUE=DURATION:PT1H
X-Robots-Tag:noindex
X-PUBLISHED-TTL:PT1H
BEGIN:VTIMEZONE
TZID:Europe/Prague
BEGIN:DAYLIGHT
TZOFFSETFROM:+0100
TZOFFSETTO:+0200
TZNAME:CEST
DTSTART:20240331T010000
END:DAYLIGHT
BEGIN:STANDARD
TZOFFSETFROM:+0200
TZOFFSETTO:+0100
TZNAME:CET
DTSTART:20241027T010000
END:STANDARD
BEGIN:DAYLIGHT
TZOFFSETFROM:+0100
TZOFFSETTO:+0200
TZNAME:CEST
DTSTART:20250330T010000
END:DAYLIGHT
BEGIN:STANDARD
TZOFFSETFROM:+0200
TZOFFSETTO:+0100
TZNAME:CET
DTSTART:20251026T010000
END:STANDARD
BEGIN:DAYLIGHT
TZOFFSETFROM:+0100
TZOFFSETTO:+0200
TZNAME:CEST
DTSTART:20260329T010000
END:DAYLIGHT
BEGIN:STANDARD
TZOFFSETFROM:+0200
TZOFFSETTO:+0100
TZNAME:CET
DTSTART:20261025T010000
END:STANDARD
END:VTIMEZONE
BEGIN:VEVENT
DTSTART;TZID=Europe/Prague:20251115T100000
DTEND;TZID=Europe/Prague:20251115T220000
DTSTAMP:20260425T205634
CREATED:20251107T100059Z
LAST-MODIFIED:20251107T100843Z
UID:10000192-1763200800-1763244000@intimityfestival.cz
SUMMARY:SexHelp – vyzkoušejte interaktivní kvíz na stánku
DESCRIPTION:Na stánku krizové linky SexHelp si návštěvníci mohou vyzkoušet interaktivní kvíz o sexuálním chování.  \nOtázky se dotýkají sexuálních preferencí\, genderové identity i povědomí o možnostech krizové pomoci. Cílem je zábavnou formou podpořit informovanost a otevřený dialog o otázkách sexuality.  \nZastavte se u nás na stánku\, nebojte se zeptat. K dispozici budou také různé odborné materiály.
URL:https://intimityfestival.cz/akce/sexhelp-stanek/
LOCATION:Doprovodný program – Vystavovatelé\, Koulova 1501/15\, Praha 6\, 160 45\, Czech Republic
CATEGORIES:Doprovodný program - v ceně vstupenky
ATTACH;FMTTYPE=image/jpeg:https://intimityfestival.cz/wp-content/uploads/2025/11/foto-scaled.jpg
END:VEVENT
END:VCALENDAR