BEGIN:VCALENDAR
VERSION:2.0
PRODID:-//Intimity Festival - ECPv6.15.20//NONSGML v1.0//EN
CALSCALE:GREGORIAN
METHOD:PUBLISH
X-ORIGINAL-URL:https://intimityfestival.cz
X-WR-CALDESC:Akce na Intimity Festival
REFRESH-INTERVAL;VALUE=DURATION:PT1H
X-Robots-Tag:noindex
X-PUBLISHED-TTL:PT1H
BEGIN:VTIMEZONE
TZID:Europe/Prague
BEGIN:DAYLIGHT
TZOFFSETFROM:+0100
TZOFFSETTO:+0200
TZNAME:CEST
DTSTART:20240331T010000
END:DAYLIGHT
BEGIN:STANDARD
TZOFFSETFROM:+0200
TZOFFSETTO:+0100
TZNAME:CET
DTSTART:20241027T010000
END:STANDARD
BEGIN:DAYLIGHT
TZOFFSETFROM:+0100
TZOFFSETTO:+0200
TZNAME:CEST
DTSTART:20250330T010000
END:DAYLIGHT
BEGIN:STANDARD
TZOFFSETFROM:+0200
TZOFFSETTO:+0100
TZNAME:CET
DTSTART:20251026T010000
END:STANDARD
BEGIN:DAYLIGHT
TZOFFSETFROM:+0100
TZOFFSETTO:+0200
TZNAME:CEST
DTSTART:20260329T010000
END:DAYLIGHT
BEGIN:STANDARD
TZOFFSETFROM:+0200
TZOFFSETTO:+0100
TZNAME:CET
DTSTART:20261025T010000
END:STANDARD
END:VTIMEZONE
BEGIN:VEVENT
DTSTART;TZID=Europe/Prague:20251115T183000
DTEND;TZID=Europe/Prague:20251115T194500
DTSTAMP:20260423T131527
CREATED:20250909T152031Z
LAST-MODIFIED:20250909T152031Z
UID:10000093-1763231400-1763235900@intimityfestival.cz
SUMMARY:Speed Dating s Nikol bez filtru – Session 2
DESCRIPTION:Účinkující: Nikol Jaterková \nSpeed Dating na Intimity Festivalu:  \nPřijď se seznámit naživo – bez swipování\, bez tlaku\, jen s lidmi\, kteří hledají to samé jako ty. Čekají tě dvě session (pátek a sobota)\, několik různých skupin podle věku\, orientace i záměru\, vtipné otázky místo nudného small talku a šance poznat někoho\, kdo ti fakt sedne. Stačí pár minut. A někdy jen jeden pohled. No a nebo z toho bude dobrá historka. Můžeš jenom vyhrát.
URL:https://intimityfestival.cz/akce/speed-dating-s-nikol-bez-filtru-session-2/
LOCATION:Sál Bivoj – Grand Hotel International Prague\, Koulova 1501/15\, Praha 6\, 160 45\, Czech Republic
CATEGORIES:Hlavní program - v ceně vstupenky
ATTACH;FMTTYPE=image/jpeg:https://intimityfestival.cz/wp-content/uploads/2025/09/Nikol-Speed-Dating.jpg
END:VEVENT
BEGIN:VEVENT
DTSTART;TZID=Europe/Prague:20251114T183000
DTEND;TZID=Europe/Prague:20251114T194500
DTSTAMP:20260423T131527
CREATED:20250909T151800Z
LAST-MODIFIED:20250909T152132Z
UID:10000092-1763145000-1763149500@intimityfestival.cz
SUMMARY:Speed Dating s Nikol bez filtru – Session 1
DESCRIPTION:Účinkující: Nikol Jaterková \nSpeed Dating na Intimity Festivalu:  \nPřijď se seznámit naživo – bez swipování\, bez tlaku\, jen s lidmi\, kteří hledají to samé jako ty. Čekají tě dvě session (pátek a sobota)\, několik různých skupin podle věku\, orientace i záměru\, vtipné otázky místo nudného small talku a šance poznat někoho\, kdo ti fakt sedne. Stačí pár minut. A někdy jen jeden pohled. No a nebo z toho bude dobrá historka. Můžeš jenom vyhrát.
URL:https://intimityfestival.cz/akce/speed-dating-s-nikol-bez-filtru-session-1/
LOCATION:Sál Bivoj – Grand Hotel International Prague\, Koulova 1501/15\, Praha 6\, 160 45\, Czech Republic
CATEGORIES:Hlavní program - v ceně vstupenky
ATTACH;FMTTYPE=image/jpeg:https://intimityfestival.cz/wp-content/uploads/2025/09/Nikol-Speed-Dating.jpg
END:VEVENT
END:VCALENDAR