BEGIN:VCALENDAR
VERSION:2.0
PRODID:-//Intimity Festival - ECPv6.15.20//NONSGML v1.0//EN
CALSCALE:GREGORIAN
METHOD:PUBLISH
X-WR-CALNAME:Intimity Festival
X-ORIGINAL-URL:https://intimityfestival.cz
X-WR-CALDESC:Akce na Intimity Festival
REFRESH-INTERVAL;VALUE=DURATION:PT1H
X-Robots-Tag:noindex
X-PUBLISHED-TTL:PT1H
BEGIN:VTIMEZONE
TZID:Europe/Prague
BEGIN:DAYLIGHT
TZOFFSETFROM:+0100
TZOFFSETTO:+0200
TZNAME:CEST
DTSTART:20240331T010000
END:DAYLIGHT
BEGIN:STANDARD
TZOFFSETFROM:+0200
TZOFFSETTO:+0100
TZNAME:CET
DTSTART:20241027T010000
END:STANDARD
BEGIN:DAYLIGHT
TZOFFSETFROM:+0100
TZOFFSETTO:+0200
TZNAME:CEST
DTSTART:20250330T010000
END:DAYLIGHT
BEGIN:STANDARD
TZOFFSETFROM:+0200
TZOFFSETTO:+0100
TZNAME:CET
DTSTART:20251026T010000
END:STANDARD
BEGIN:DAYLIGHT
TZOFFSETFROM:+0100
TZOFFSETTO:+0200
TZNAME:CEST
DTSTART:20260329T010000
END:DAYLIGHT
BEGIN:STANDARD
TZOFFSETFROM:+0200
TZOFFSETTO:+0100
TZNAME:CET
DTSTART:20261025T010000
END:STANDARD
END:VTIMEZONE
BEGIN:VEVENT
DTSTART;TZID=Europe/Prague:20251115T103000
DTEND;TZID=Europe/Prague:20251115T200000
DTSTAMP:20260423T120826
CREATED:20251009T191246Z
LAST-MODIFIED:20251105T154354Z
UID:10000179-1763202600-1763236800@intimityfestival.cz
SUMMARY:Zdravé dospívání: nahlédněte do hodiny sexuální výchovy
DESCRIPTION:Účinkující: Zdravé dospívání \nVe vystavovatelské zóně pro nezisk na stánku Zdravého dospívání vás čeká víc než jen ukázka hodiny sexuální výchovy. Dozvíte se\, jak  může probíhat pohádka o těle a sexualitě pro děti ve školce\, co zajímá prvňáky a co třeba sedmačky\, předvedeme vám látkové výukové pomůcky\, zvané plyšáci a vůbec celý obsah našeho slavného kufru\, se kterým mateřské\, základní a střední školy objíždíme. K tomu si můžete zahrát velmi intimní pexeso a vyzkoušet náš oblíbený merch: klitorisové náušnice (Ano\, přijďte si ověřit\, na jaký orgán se obvykle “zavěsí”:).
URL:https://intimityfestival.cz/akce/zdrave-dospivani-nahlednete-do-hodiny-sexualni-vychovy/
LOCATION:Doprovodný program – Vystavovatelé\, Koulova 1501/15\, Praha 6\, 160 45\, Czech Republic
CATEGORIES:Doprovodný program - v ceně vstupenky
ATTACH;FMTTYPE=image/jpeg:https://intimityfestival.cz/wp-content/uploads/2025/10/WhatsApp-Image-2025-07-22-at-11.32.10-1.jpeg
END:VEVENT
BEGIN:VEVENT
DTSTART;TZID=Europe/Prague:20251114T154000
DTEND;TZID=Europe/Prague:20251114T200000
DTSTAMP:20260423T120826
CREATED:20251009T192301Z
LAST-MODIFIED:20251105T160911Z
UID:10000180-1763134800-1763150400@intimityfestival.cz
SUMMARY:Zdravé dospívání: nahlédněte do hodiny sexuální výchovy
DESCRIPTION:Účinkující: Zdravé dospívání \nVe vystavovatelské zóně pro nezisk na stánku Zdravého dospívání vás čeká víc než jen ukázka hodiny sexuální výchovy. Dozvíte se\, jak  může probíhat pohádka o těle a sexualitě pro děti ve školce\, co zajímá prvňáky a co třeba sedmačky\, předvedeme vám látkové výukové pomůcky\, zvané plyšáci a vůbec celý obsah našeho slavného kufru\, se kterým mateřské\, základní a střední školy objíždíme. K tomu si můžete zahrát velmi intimní pexeso a vyzkoušet náš oblíbený merch: klitorisové náušnice (Ano\, přijďte si ověřit\, na jaký orgán se obvykle “zavěsí”:).
URL:https://intimityfestival.cz/akce/zdrave-dospivani-nahlednete-do-hodiny-sexualni-vychovy-2/
LOCATION:Doprovodný program – Vystavovatelé\, Koulova 1501/15\, Praha 6\, 160 45\, Czech Republic
CATEGORIES:Doprovodný program - v ceně vstupenky
ATTACH;FMTTYPE=image/jpeg:https://intimityfestival.cz/wp-content/uploads/2025/10/WhatsApp-Image-2025-07-22-at-11.32.10-1.jpeg
END:VEVENT
END:VCALENDAR