BEGIN:VCALENDAR
VERSION:2.0
PRODID:-//Intimity Festival - ECPv6.15.20//NONSGML v1.0//EN
CALSCALE:GREGORIAN
METHOD:PUBLISH
X-ORIGINAL-URL:https://intimityfestival.cz
X-WR-CALDESC:Akce na Intimity Festival
REFRESH-INTERVAL;VALUE=DURATION:PT1H
X-Robots-Tag:noindex
X-PUBLISHED-TTL:PT1H
BEGIN:VTIMEZONE
TZID:Europe/Prague
BEGIN:DAYLIGHT
TZOFFSETFROM:+0100
TZOFFSETTO:+0200
TZNAME:CEST
DTSTART:20240331T010000
END:DAYLIGHT
BEGIN:STANDARD
TZOFFSETFROM:+0200
TZOFFSETTO:+0100
TZNAME:CET
DTSTART:20241027T010000
END:STANDARD
BEGIN:DAYLIGHT
TZOFFSETFROM:+0100
TZOFFSETTO:+0200
TZNAME:CEST
DTSTART:20250330T010000
END:DAYLIGHT
BEGIN:STANDARD
TZOFFSETFROM:+0200
TZOFFSETTO:+0100
TZNAME:CET
DTSTART:20251026T010000
END:STANDARD
BEGIN:DAYLIGHT
TZOFFSETFROM:+0100
TZOFFSETTO:+0200
TZNAME:CEST
DTSTART:20260329T010000
END:DAYLIGHT
BEGIN:STANDARD
TZOFFSETFROM:+0200
TZOFFSETTO:+0100
TZNAME:CET
DTSTART:20261025T010000
END:STANDARD
END:VTIMEZONE
BEGIN:VEVENT
DTSTART;TZID=Europe/Prague:20251115T153000
DTEND;TZID=Europe/Prague:20251115T161000
DTSTAMP:20260425T205510
CREATED:20250912T092115Z
LAST-MODIFIED:20250916T084046Z
UID:10000105-1763220600-1763223000@intimityfestival.cz
SUMMARY:Jak na sexuální výchovu s Freyou
DESCRIPTION:Přednášející: Bc. Aneta Dominiková \n  \nV edukačním bloku vás provedeme tématem sexuální výchovy a osvěty: kdy a jak začít hovořit o sexualitě s dětmi\, jaké edukační pomůcky a typy knih můžeme využít.  \nProgramem vás provede Aneta Dominiková. Aneta vystudovala sociální práci na Filozofické fakultě Univerzity Karlovy\, kde pokračuje v magisterském studiu. Absolvovala výcvik krizové intervence a ve Freye působí jako poradkyně v oblasti sexuality a vztahů. Dlouhodobě se zajímá o témata\, jako je konsent a detabuizace sexuality u lidí se znevýhodněním. Podílela se na přípravě metodiky edukačních skupin pro lidi se znevýhodněním v oblasti sexuality a vztahů a spolu vedla skupinová setkávání pro lidi s mentálním znevýhodněním zaměřené na edukaci v oblasti sexuality a vztahů. \nČeká vás interaktivní program\, do kterého se můžete sami zapojit. Společně si odpovíme na otázky: Co vše patří do sexuality? S jakými tématy je vhodné začít? Proč vlastně téma sexuality otevírat? Jak o ní komunikovat?  \nSeznámíme vás s činností poradny Freya\, kde nabízíme mimo jiné poradenství v oblasti sexuality a vztahů pro děti\, dospívající a dospělé s mentálním\, fyzickým či kombinovaným znevýhodněním či s poruchou autistického spektra a jejich rodiče/pečující osoby.  \nFreya – Institut sexuality a vztahů provozuje nezisková organizace Freya\, z. s. Ta se zaměřuje na systematické zavádění práce se sexualitou v sociálních\, zdravotnických a školských zařízeních. Věnuje se vzdělávání a metodické podpoře\, odbornému poradenství\, vývoji edukačních pomůcek\, publikační činnosti a dalším aktivitám v oblasti sexuality a vztahů lidí se zdravotním znevýhodněním\, seniorů a seniorek i dětí a dospívajících z dětských domovů a podobných zařízení.
URL:https://intimityfestival.cz/akce/jak-na-sexualni-vychovu-s-freyou/
LOCATION:Sál Bivoj – Grand Hotel International Prague\, Koulova 1501/15\, Praha 6\, 160 45\, Czech Republic
CATEGORIES:Hlavní program - v ceně vstupenky
ATTACH;FMTTYPE=image/png:https://intimityfestival.cz/wp-content/uploads/2025/09/Screenshot-2025-09-12-112055.png
END:VEVENT
BEGIN:VEVENT
DTSTART;TZID=Europe/Prague:20251114T160000
DTEND;TZID=Europe/Prague:20251114T163000
DTSTAMP:20260425T205510
CREATED:20250902T193231Z
LAST-MODIFIED:20251024T073259Z
UID:10000059-1763136000-1763137800@intimityfestival.cz
SUMMARY:Intimita v moderní době: mezi hashtagy\, hormony a hranicemi
DESCRIPTION:Panelová diskuse s hosty: MUDr. Barbora Grillová\, Lukáš Hejlík\, Lucie Šídová (Freya) \nJak se proměňuje vnímání intimity a vztahů v dnešní době? Panelová diskuse nabídne pohled na intimitu napříč generacemi\, kontexty i zkušenostmi – od vlivu sociálních sítí přes tělesné a zdravotní limity až po medicínská fakta\, která se do běžné konverzace často nevejdou.\nSpolečně s Lukášem Hejlíkem\, Lucii Šídovou z organizace Freya a lékařkou Barborou Grillovou otevřeme téma současných vztahů bez přikrášlení – citlivě\, otevřeně a s nadhledem. Přijďte si poslechnout\, jak může vypadat intimita v roce 2025.
URL:https://intimityfestival.cz/akce/intimita-v-moderni-dobe-mezi-hashtagy-hormony-a-hranicemi/
LOCATION:Hlavní Stage – Grand Hotel International Prague\, Koulova 1501/15\, Praha 6\, 160 45\, Czech Republic
CATEGORIES:Hlavní program - v ceně vstupenky
END:VEVENT
END:VCALENDAR