BEGIN:VCALENDAR
VERSION:2.0
PRODID:-//Intimity Festival - ECPv6.15.20//NONSGML v1.0//EN
CALSCALE:GREGORIAN
METHOD:PUBLISH
X-ORIGINAL-URL:https://intimityfestival.cz
X-WR-CALDESC:Akce na Intimity Festival
REFRESH-INTERVAL;VALUE=DURATION:PT1H
X-Robots-Tag:noindex
X-PUBLISHED-TTL:PT1H
BEGIN:VTIMEZONE
TZID:Europe/Prague
BEGIN:DAYLIGHT
TZOFFSETFROM:+0100
TZOFFSETTO:+0200
TZNAME:CEST
DTSTART:20240331T010000
END:DAYLIGHT
BEGIN:STANDARD
TZOFFSETFROM:+0200
TZOFFSETTO:+0100
TZNAME:CET
DTSTART:20241027T010000
END:STANDARD
BEGIN:DAYLIGHT
TZOFFSETFROM:+0100
TZOFFSETTO:+0200
TZNAME:CEST
DTSTART:20250330T010000
END:DAYLIGHT
BEGIN:STANDARD
TZOFFSETFROM:+0200
TZOFFSETTO:+0100
TZNAME:CET
DTSTART:20251026T010000
END:STANDARD
BEGIN:DAYLIGHT
TZOFFSETFROM:+0100
TZOFFSETTO:+0200
TZNAME:CEST
DTSTART:20260329T010000
END:DAYLIGHT
BEGIN:STANDARD
TZOFFSETFROM:+0200
TZOFFSETTO:+0100
TZNAME:CET
DTSTART:20261025T010000
END:STANDARD
END:VTIMEZONE
BEGIN:VEVENT
DTSTART;TZID=Europe/Prague:20251115T103000
DTEND;TZID=Europe/Prague:20251115T200000
DTSTAMP:20260423T115439
CREATED:20251010T132338Z
LAST-MODIFIED:20251105T154333Z
UID:10000184-1763202600-1763236800@intimityfestival.cz
SUMMARY:ENDOTalks: povídání o endometrióze
DESCRIPTION:Vystavovatel: ENDO Talks \nEndometrióza postihuje každou desátou ženu a často zůstává nepoznaná i mnoho let. Přijďte si na náš stánek popovídat s odborníky a odbornicemi z ENDOTalks.cz\, z.s. a získat cenné informace – pro sebe\, kamarádky i blízké. Přijďte se inspirovat\, dozvědět se více a sdílet své otázky a zkušenosti – protože mluvit o endometrióze je první krok k porozumění a podpoře. \nNa co se můžete těšit: \n\nJak poznat příznaky endometriózy a kdy je vhodné vyhledat vyšetření\n\n\nJak endometrióza ovlivňuje život a plodnost\n\n\nMožnosti vyšetření\, prevence a péče o sebe\n\n\nNaším cílem je otevřeně mluvit o endometrióze prostřednictvím edukačních a informačních projektů. I když neznáme přesnou příčinu nemoci ani zaručenou léčbu\n\n\nPropojujeme odborníky napříč obory\, aby ženy měly co nejvíce informací\, přístup k vyšetřením a podporu při léčbě a životě s endometriózou.\n\n\nRealizujeme každý rok ENDOmarch (poslední březnovou sobotu) – pochodovou akci\, diskusní panely\, webináře a další aktivity zaměřené na informování veřejnosti a podporu pacientek. \n\nPřijďte se inspirovat\, dozvědět se více a sdílet své otázky a zkušenosti – protože mluvit o endometrióze je první krok k porozumění a podpoře.
URL:https://intimityfestival.cz/akce/endotalks-povidani-o-endometrioze-2/
LOCATION:Doprovodný program – Vystavovatelé\, Koulova 1501/15\, Praha 6\, 160 45\, Czech Republic
CATEGORIES:Doprovodný program - v ceně vstupenky
ATTACH;FMTTYPE=image/jpeg:https://intimityfestival.cz/wp-content/uploads/2025/10/2023.03.25-EndoMarch-Pochod-Praha-Petr-Lebeda-all-25.jpeg
END:VEVENT
BEGIN:VEVENT
DTSTART;TZID=Europe/Prague:20251114T154500
DTEND;TZID=Europe/Prague:20251114T200000
DTSTAMP:20260423T115439
CREATED:20251010T132005Z
LAST-MODIFIED:20251105T160641Z
UID:10000183-1763135100-1763150400@intimityfestival.cz
SUMMARY:ENDOTalks: povídání o endometrióze
DESCRIPTION:Vystavovatel: ENDO Talks \nEndometrióza postihuje každou desátou ženu a často zůstává nepoznaná i mnoho let. Přijďte si na náš stánek popovídat s odborníky a odbornicemi z ENDOTalks.cz\, z.s. a získat cenné informace – pro sebe\, kamarádky i blízké. Přijďte se inspirovat\, dozvědět se více a sdílet své otázky a zkušenosti – protože mluvit o endometrióze je první krok k porozumění a podpoře. \nNa co se můžete těšit: \n\nJak poznat příznaky endometriózy a kdy je vhodné vyhledat vyšetření\n\n\nJak endometrióza ovlivňuje život a plodnost\n\n\nMožnosti vyšetření\, prevence a péče o sebe\n\n\nNaším cílem je otevřeně mluvit o endometrióze prostřednictvím edukačních a informačních projektů. I když neznáme přesnou příčinu nemoci ani zaručenou léčbu\n\n\nPropojujeme odborníky napříč obory\, aby ženy měly co nejvíce informací\, přístup k vyšetřením a podporu při léčbě a životě s endometriózou.\n\n\nRealizujeme každý rok ENDOmarch (poslední březnovou sobotu) – pochodovou akci\, diskusní panely\, webináře a další aktivity zaměřené na informování veřejnosti a podporu pacientek. \n\nPřijďte se inspirovat\, dozvědět se více a sdílet své otázky a zkušenosti – protože mluvit o endometrióze je první krok k porozumění a podpoře.
URL:https://intimityfestival.cz/akce/endotalks-povidani-o-endometrioze/
LOCATION:Doprovodný program – Vystavovatelé\, Koulova 1501/15\, Praha 6\, 160 45\, Czech Republic
CATEGORIES:Doprovodný program - v ceně vstupenky
ATTACH;FMTTYPE=image/jpeg:https://intimityfestival.cz/wp-content/uploads/2025/10/2023.03.25-EndoMarch-Pochod-Praha-Petr-Lebeda-all-25.jpeg
END:VEVENT
END:VCALENDAR